BEGIN:VCALENDAR
VERSION:2.0
PRODID:-//Squarespace Inc/Squarespace 6//v6//EN
BEGIN:VEVENT
UID:5bebb2a1352f53567e1e71bd@squarespace.com
DTSTAMP:20181115T064841Z
DTSTART:20181125T003000Z
DTEND:20181125T033000Z
SUMMARY:The Junior Vice Presidents - 7.30pm
END:VEVENT
END:VCALENDAR
