BEGIN:VCALENDAR
VERSION:2.0
PRODID:-//Squarespace Inc/Squarespace 6//v6//EN
BEGIN:VEVENT
UID:5bebb19e0ebbe876a6f9a5a7@squarespace.com
DTSTAMP:20181115T064751Z
DTSTART:20181118T220000Z
DTEND:20181119T010000Z
SUMMARY:Ben Little\, Lloyd G &amp\; Lianna Rose - 5pm
END:VEVENT
END:VCALENDAR
