BEGIN:VCALENDAR
VERSION:2.0
PRODID:-//Squarespace Inc/Squarespace 6//v6//EN
BEGIN:VEVENT
UID:5bebb0e81ae6cf66cda15251@squarespace.com
DTSTAMP:20181115T064309Z
DTSTART:20181118T003000Z
DTEND:20181118T033000Z
SUMMARY:Martin Marnell\, Paul De Carlo &amp\; Vince Vitale - 7.30pm
END:VEVENT
END:VCALENDAR
