BEGIN:VCALENDAR
VERSION:2.0
PRODID:-//Squarespace Inc/Squarespace 6//v6//EN
BEGIN:VEVENT
UID:5be3dcb0b8a045c6fab24441@squarespace.com
DTSTAMP:20181108T065449Z
DTSTART:20181111T213000Z
DTEND:20181112T003000Z
SUMMARY:Matt Hanley &amp\; Band
END:VEVENT
END:VCALENDAR
