BEGIN:VCALENDAR
VERSION:2.0
PRODID:-//Squarespace Inc/Squarespace 6//v6//EN
BEGIN:VEVENT
UID:5b409083758d467eaa3fd75c@squarespace.com
DTSTAMP:20180930T131033Z
DTSTART:20181111T003000Z
DTEND:20181111T033000Z
SUMMARY:Mary Jane Band 
END:VEVENT
END:VCALENDAR
