BEGIN:VCALENDAR
VERSION:2.0
PRODID:-//Squarespace Inc/Squarespace 6//v6//EN
BEGIN:VEVENT
UID:5b408f2a2b6a284d4ae64f87@squarespace.com
DTSTAMP:20180707T100058Z
DTSTART:20181007T210000Z
DTEND:20181008T000000Z
SUMMARY:Irish Trad Session
END:VEVENT
END:VCALENDAR
