BEGIN:VCALENDAR
VERSION:2.0
PRODID:-//Squarespace Inc/Squarespace 6//v6//EN
BEGIN:VEVENT
UID:5b408ecc1ae6cfc6b0c16f4f@squarespace.com
DTSTAMP:20180707T095959Z
DTSTART:20181006T223000Z
DTEND:20181007T023000Z
SUMMARY:The Freeekz
END:VEVENT
END:VCALENDAR
