BEGIN:VCALENDAR
VERSION:2.0
PRODID:-//Squarespace Inc/Squarespace 6//v6//EN
BEGIN:VEVENT
UID:5b408fdb8a922de720a9852c@squarespace.com
DTSTAMP:20180707T100352Z
DTSTART:20181028T210000Z
DTEND:20181029T000000Z
SUMMARY:The Bell
END:VEVENT
END:VCALENDAR
