BEGIN:VCALENDAR
VERSION:2.0
PRODID:-//Squarespace Inc/Squarespace 6//v6//EN
BEGIN:VEVENT
UID:5bcff84e0d929757ea48698e@squarespace.com
DTSTAMP:20181024T044605Z
DTSTART:20181028T000000Z
DTEND:20181028T030000Z
SUMMARY:Ben Little &amp\; Friends
END:VEVENT
END:VCALENDAR
