BEGIN:VCALENDAR
VERSION:2.0
PRODID:-//Squarespace Inc/Squarespace 6//v6//EN
BEGIN:VEVENT
UID:5bc0963be5e5f033a5a00f57@squarespace.com
DTSTAMP:20181012T124215Z
DTSTART:20181021T203000Z
DTEND:20181021T233000Z
SUMMARY:Paul Kelly Tribute
END:VEVENT
END:VCALENDAR
