BEGIN:VCALENDAR
VERSION:2.0
PRODID:-//Squarespace Inc/Squarespace 6//v6//EN
BEGIN:VEVENT
UID:5b921f3e4fa51a944dfe1338@squarespace.com
DTSTAMP:20180930T130736Z
DTSTART:20181020T233000Z
DTEND:20181021T023000Z
SUMMARY:Shock Daze
END:VEVENT
END:VCALENDAR
