BEGIN:VCALENDAR
VERSION:2.0
PRODID:-//Squarespace Inc/Squarespace 6//v6//EN
BEGIN:VEVENT
UID:5b408fa38a922de720a981ca@squarespace.com
DTSTAMP:20180707T100258Z
DTSTART:20181014T203000Z
DTEND:20181014T233000Z
SUMMARY:Blackwater
END:VEVENT
END:VCALENDAR
