BEGIN:VCALENDAR
VERSION:2.0
PRODID:-//Squarespace Inc/Squarespace 6//v6//EN
BEGIN:VEVENT
UID:5b408f6c88251b7f2370bc02@squarespace.com
DTSTAMP:20180907T063505Z
DTSTART:20181013T233000Z
DTEND:20181014T023000Z
SUMMARY:Mary Jane
END:VEVENT
END:VCALENDAR
