BEGIN:VCALENDAR
VERSION:2.0
PRODID:-//Squarespace Inc/Squarespace 6//v6//EN
BEGIN:VEVENT
UID:59c9d138268b96752f02bf00@squarespace.com
DTSTAMP:20170926T042405Z
DTSTART:20171001T000000Z
DTEND:20171001T030000Z
SUMMARY:AFL GRAND FINAL Day - Kitchen open from 12pm - Lamb on the spit fro
 m 2pm - AFL Grand Final 2.30pm - Live music with Paul De Carlo & Friends f
 rom 8pm
END:VEVENT
END:VCALENDAR
