BEGIN:VCALENDAR
VERSION:2.0
PRODID:-//Squarespace Inc/Squarespace 6//v6//EN
BEGIN:VEVENT
UID:59c9d3cbf09ca4a9c581a920@squarespace.com
DTSTAMP:20170926T041707Z
DTSTART:20170929T160000Z
DTEND:20170930T033000Z
SUMMARY:October Long Weekend - Feel Good Friday - Charity BBQ 4PM-6PM - Pic
 k the Joker Jackpot $2200 - Prizes include meat trays and drinks  
END:VEVENT
END:VCALENDAR
