BEGIN:VCALENDAR
VERSION:2.0
PRODID:-//Squarespace Inc/Squarespace 6//v6//EN
BEGIN:VEVENT
UID:59bf47c2f5e2319206def952@squarespace.com
DTSTAMP:20170918T042101Z
DTSTART:20170921T233000Z
DTEND:20170922T020000Z
SUMMARY:Whale Trivia Night with Simon
END:VEVENT
END:VCALENDAR
