BEGIN:VCALENDAR
VERSION:2.0
PRODID:-//Squarespace Inc/Squarespace 6//v6//EN
BEGIN:VEVENT
UID:59d5b76a2278e755eba765dd@squarespace.com
DTSTAMP:20171007T032048Z
DTSTART:20171008T203000Z
DTEND:20171008T233000Z
SUMMARY:Live Music - Stephanie Marchant Band
END:VEVENT
END:VCALENDAR
