BEGIN:VCALENDAR
VERSION:2.0
PRODID:-//Squarespace Inc/Squarespace 6//v6//EN
BEGIN:VEVENT
UID:59d5b6757131a5299b3dc6d9@squarespace.com
DTSTAMP:20171007T031823Z
DTSTART:20171007T233000Z
DTEND:20171008T023000Z
SUMMARY:Live Music - Shane Pacey & the King Brothers
END:VEVENT
END:VCALENDAR
