BEGIN:VCALENDAR
VERSION:2.0
PRODID:-//Squarespace Inc/Squarespace 6//v6//EN
BEGIN:VEVENT
UID:59d848349f7456baacc95efc@squarespace.com
DTSTAMP:20171007T033032Z
DTSTART:20171011T160000Z
DTEND:20171012T020000Z
SUMMARY:Kids Eat Free Wednesday's
END:VEVENT
END:VCALENDAR
