BEGIN:VCALENDAR
VERSION:2.0
PRODID:-//Squarespace Inc/Squarespace 6//v6//EN
BEGIN:VEVENT
UID:59d5b54332601edd789aa00d@squarespace.com
DTSTAMP:20171007T031917Z
DTSTART:20171006T200000Z
DTEND:20171006T233000Z
SUMMARY:Joker Jackpot $2300
END:VEVENT
END:VCALENDAR
