BEGIN:VCALENDAR
VERSION:2.0
PRODID:-//Squarespace Inc/Squarespace 6//v6//EN
BEGIN:VEVENT
UID:59bf482a268b9688d7d8d90d@squarespace.com
DTSTAMP:20171007T031952Z
DTSTART:20171005T233000Z
DTEND:20171006T020000Z
SUMMARY:Whale Trivia Night with Simon 
END:VEVENT
END:VCALENDAR
