BEGIN:VCALENDAR
VERSION:2.0
PRODID:-//Squarespace Inc/Squarespace 6//v6//EN
BEGIN:VEVENT
UID:59c9dcb98a02c7f5e2c1ff15@squarespace.com
DTSTAMP:20170926T045153Z
DTSTART:20171002T160000Z
DTEND:20171003T030000Z
SUMMARY:Public Holiday Monday - We are open! - 12pm - 10pm 
END:VEVENT
END:VCALENDAR
