BEGIN:VCALENDAR
VERSION:2.0
PRODID:-//Squarespace Inc/Squarespace 6//v6//EN
BEGIN:VEVENT
UID:59c9d4e02aeba5bc0502617b@squarespace.com
DTSTAMP:20170926T042528Z
DTSTART:20171001T160000Z
DTEND:20171002T035900Z
SUMMARY:NRL Grand Final Day - Chef Roasts - lunch and dinner bookings - NRL 
 Grand Final from 7pm - Open till midnight 
END:VEVENT
END:VCALENDAR
